BEGIN:VCALENDAR
VERSION:2.0
PRODID:-//Estrella Vista STEM Academy for Engineering - ECPv6.15.17.1//NONSGML v1.0//EN
CALSCALE:GREGORIAN
METHOD:PUBLISH
X-WR-CALNAME:Estrella Vista STEM Academy for Engineering
X-ORIGINAL-URL:https://eves.littletonaz.org
X-WR-CALDESC:Events for Estrella Vista STEM Academy for Engineering
REFRESH-INTERVAL;VALUE=DURATION:PT1H
X-Robots-Tag:noindex
X-PUBLISHED-TTL:PT1H
BEGIN:VTIMEZONE
TZID:America/Phoenix
BEGIN:STANDARD
TZOFFSETFROM:-0700
TZOFFSETTO:-0700
TZNAME:MST
DTSTART:20230101T000000
END:STANDARD
END:VTIMEZONE
BEGIN:VEVENT
DTSTART;VALUE=DATE:20240430
DTEND;VALUE=DATE:20240501
DTSTAMP:20260421T015128
CREATED:20240403T002159Z
LAST-MODIFIED:20240403T002159Z
UID:10000502-1714435200-1714521599@eves.littletonaz.org
SUMMARY:Kinder & 8th Grade Promotion Pictures
DESCRIPTION:
URL:https://eves.littletonaz.org/calendar-event/kinder-8th-grade-promotion-pictures
END:VEVENT
BEGIN:VEVENT
DTSTART;VALUE=DATE:20240430
DTEND;VALUE=DATE:20240501
DTSTAMP:20260421T015128
CREATED:20240403T002225Z
LAST-MODIFIED:20240403T002225Z
UID:10000503-1714435200-1714521599@eves.littletonaz.org
SUMMARY:4th Grade Field Trip to Wildlife World Zoo
DESCRIPTION:
URL:https://eves.littletonaz.org/calendar-event/4th-grade-field-trip-to-wildlife-world-zoo
END:VEVENT
END:VCALENDAR