BEGIN:VCALENDAR
VERSION:2.0
PRODID:-//Estrella Vista STEM Academy for Engineering - ECPv6.15.17.1//NONSGML v1.0//EN
CALSCALE:GREGORIAN
METHOD:PUBLISH
X-ORIGINAL-URL:https://eves.littletonaz.org
X-WR-CALDESC:Events for Estrella Vista STEM Academy for Engineering
REFRESH-INTERVAL;VALUE=DURATION:PT1H
X-Robots-Tag:noindex
X-PUBLISHED-TTL:PT1H
BEGIN:VTIMEZONE
TZID:America/Phoenix
BEGIN:STANDARD
TZOFFSETFROM:-0700
TZOFFSETTO:-0700
TZNAME:MST
DTSTART:20230101T000000
END:STANDARD
END:VTIMEZONE
BEGIN:VEVENT
DTSTART;VALUE=DATE:20241205
DTEND;VALUE=DATE:20241206
DTSTAMP:20260423T221718
CREATED:20241101T162022Z
LAST-MODIFIED:20241118T220510Z
UID:10000610-1733356800-1733443199@eves.littletonaz.org
SUMMARY:Girls Soccer & Boys Basketball - Semi Finals
DESCRIPTION:
URL:https://eves.littletonaz.org/calendar-event/girls-soccer-boys-basketball-semi-finals
LOCATION:Estrella Vista & Tres Rios
END:VEVENT
BEGIN:VEVENT
DTSTART;TZID=America/Phoenix:20241205T153000
DTEND;TZID=America/Phoenix:20241205T163000
DTSTAMP:20260423T221718
CREATED:20241203T161940Z
LAST-MODIFIED:20241203T161940Z
UID:10000641-1733412600-1733416200@eves.littletonaz.org
SUMMARY:RBBB Graduation
DESCRIPTION:
URL:https://eves.littletonaz.org/calendar-event/rbbb-graduation
LOCATION:Library
END:VEVENT
END:VCALENDAR