BEGIN:VCALENDAR
VERSION:2.0
PRODID:-//Estrella Vista STEM Academy for Engineering - ECPv6.15.17.1//NONSGML v1.0//EN
CALSCALE:GREGORIAN
METHOD:PUBLISH
X-WR-CALNAME:Estrella Vista STEM Academy for Engineering
X-ORIGINAL-URL:https://eves.littletonaz.org
X-WR-CALDESC:Events for Estrella Vista STEM Academy for Engineering
REFRESH-INTERVAL;VALUE=DURATION:PT1H
X-Robots-Tag:noindex
X-PUBLISHED-TTL:PT1H
BEGIN:VTIMEZONE
TZID:America/Phoenix
BEGIN:STANDARD
TZOFFSETFROM:-0700
TZOFFSETTO:-0700
TZNAME:MST
DTSTART:20240101T000000
END:STANDARD
END:VTIMEZONE
BEGIN:VEVENT
DTSTART;VALUE=DATE:20251103
DTEND;VALUE=DATE:20251104
DTSTAMP:20260423T135952
CREATED:20250930T140507Z
LAST-MODIFIED:20251030T020219Z
UID:10000842-1762128000-1762214399@eves.littletonaz.org
SUMMARY:PTSA Meeting
DESCRIPTION:
URL:https://eves.littletonaz.org/calendar-event/ptsa-meeting-3
LOCATION:Library
END:VEVENT
END:VCALENDAR