BEGIN:VCALENDAR
VERSION:2.0
PRODID:-//Estrella Vista STEM Academy for Engineering - ECPv6.15.17.1//NONSGML v1.0//EN
CALSCALE:GREGORIAN
METHOD:PUBLISH
X-ORIGINAL-URL:https://eves.littletonaz.org
X-WR-CALDESC:Events for Estrella Vista STEM Academy for Engineering
REFRESH-INTERVAL;VALUE=DURATION:PT1H
X-Robots-Tag:noindex
X-PUBLISHED-TTL:PT1H
BEGIN:VTIMEZONE
TZID:America/Phoenix
BEGIN:STANDARD
TZOFFSETFROM:-0700
TZOFFSETTO:-0700
TZNAME:MST
DTSTART:20230101T000000
END:STANDARD
END:VTIMEZONE
BEGIN:VEVENT
DTSTART;VALUE=DATE:20240501
DTEND;VALUE=DATE:20240502
DTSTAMP:20260421T220651
CREATED:20230715T014009Z
LAST-MODIFIED:20230715T014009Z
UID:10000077-1714521600-1714607999@eves.littletonaz.org
SUMMARY:Early Release for Students
DESCRIPTION:
URL:https://eves.littletonaz.org/calendar-event/early-release-for-students-33
END:VEVENT
BEGIN:VEVENT
DTSTART;VALUE=DATE:20240506
DTEND;VALUE=DATE:20240511
DTSTAMP:20260421T220651
CREATED:20240426T050650Z
LAST-MODIFIED:20240426T050650Z
UID:10000504-1714953600-1715385599@eves.littletonaz.org
SUMMARY:Teacher Appreciation Week
DESCRIPTION:
URL:https://eves.littletonaz.org/calendar-event/teacher-appreciation-week
END:VEVENT
BEGIN:VEVENT
DTSTART;TZID=America/Phoenix:20240506T173000
DTEND;TZID=America/Phoenix:20240506T190000
DTSTAMP:20260421T220651
CREATED:20240426T050821Z
LAST-MODIFIED:20240426T050821Z
UID:10000506-1715016600-1715022000@eves.littletonaz.org
SUMMARY:First Grade Cultural Event
DESCRIPTION:
URL:https://eves.littletonaz.org/calendar-event/first-grade-cultural-event
END:VEVENT
BEGIN:VEVENT
DTSTART;VALUE=DATE:20240507
DTEND;VALUE=DATE:20240510
DTSTAMP:20260421T220651
CREATED:20240426T050729Z
LAST-MODIFIED:20240426T050729Z
UID:10000505-1715040000-1715299199@eves.littletonaz.org
SUMMARY:End of Year Assessments for Grades 1–8
DESCRIPTION:
URL:https://eves.littletonaz.org/calendar-event/end-of-year-assessments-for-grades-1-8
END:VEVENT
BEGIN:VEVENT
DTSTART;VALUE=DATE:20240508
DTEND;VALUE=DATE:20240509
DTSTAMP:20260421T220651
CREATED:20230715T014009Z
LAST-MODIFIED:20230715T014009Z
UID:10000078-1715126400-1715212799@eves.littletonaz.org
SUMMARY:Early Release for Students
DESCRIPTION:
URL:https://eves.littletonaz.org/calendar-event/early-release-for-students-34
END:VEVENT
BEGIN:VEVENT
DTSTART;TZID=America/Phoenix:20240508T073000
DTEND;TZID=America/Phoenix:20240508T140000
DTSTAMP:20260421T220651
CREATED:20230715T014009Z
LAST-MODIFIED:20230715T014009Z
UID:10000079-1715153400-1715176800@eves.littletonaz.org
SUMMARY:Child Find Screenings
DESCRIPTION:
URL:https://eves.littletonaz.org/calendar-event/child-find-screenings-9
END:VEVENT
BEGIN:VEVENT
DTSTART;VALUE=DATE:20240509
DTEND;VALUE=DATE:20240510
DTSTAMP:20260421T220651
CREATED:20240426T050912Z
LAST-MODIFIED:20240426T050912Z
UID:10000507-1715212800-1715299199@eves.littletonaz.org
SUMMARY:Sports Championships
DESCRIPTION:
URL:https://eves.littletonaz.org/calendar-event/sports-championships
END:VEVENT
BEGIN:VEVENT
DTSTART;TZID=America/Phoenix:20240513T160000
DTEND;TZID=America/Phoenix:20240513T173000
DTSTAMP:20260421T220651
CREATED:20240426T051001Z
LAST-MODIFIED:20240426T051001Z
UID:10000508-1715616000-1715621400@eves.littletonaz.org
SUMMARY:STEM Showcase
DESCRIPTION:
URL:https://eves.littletonaz.org/calendar-event/stem-showcase
END:VEVENT
BEGIN:VEVENT
DTSTART;TZID=America/Phoenix:20240514T180000
DTEND;TZID=America/Phoenix:20240514T180000
DTSTAMP:20260421T220651
CREATED:20230715T014010Z
LAST-MODIFIED:20230715T014010Z
UID:10000080-1715709600-1715709600@eves.littletonaz.org
SUMMARY:Governing Board Meeting
DESCRIPTION:
URL:https://eves.littletonaz.org/calendar-event/governing-board-meeting-17
END:VEVENT
BEGIN:VEVENT
DTSTART;VALUE=DATE:20240515
DTEND;VALUE=DATE:20240516
DTSTAMP:20260421T220651
CREATED:20230715T014155Z
LAST-MODIFIED:20230715T014155Z
UID:10000081-1715731200-1715817599@eves.littletonaz.org
SUMMARY:Early Release for Students
DESCRIPTION:
URL:https://eves.littletonaz.org/calendar-event/early-release-for-students-35
END:VEVENT
BEGIN:VEVENT
DTSTART;VALUE=DATE:20240516
DTEND;VALUE=DATE:20240517
DTSTAMP:20260421T220651
CREATED:20240426T051038Z
LAST-MODIFIED:20240426T051038Z
UID:10000509-1715817600-1715903999@eves.littletonaz.org
SUMMARY:Eighth Grade Awards Dinner and Dance
DESCRIPTION:
URL:https://eves.littletonaz.org/calendar-event/eighth-grade-awards-dinner-and-dance
END:VEVENT
BEGIN:VEVENT
DTSTART;VALUE=DATE:20240517
DTEND;VALUE=DATE:20240518
DTSTAMP:20260421T220651
CREATED:20240426T051107Z
LAST-MODIFIED:20240426T051107Z
UID:10000510-1715904000-1715990399@eves.littletonaz.org
SUMMARY:Final Friday Assemblies
DESCRIPTION:
URL:https://eves.littletonaz.org/calendar-event/final-friday-assemblies
END:VEVENT
BEGIN:VEVENT
DTSTART;TZID=America/Phoenix:20240520T083000
DTEND;TZID=America/Phoenix:20240520T103000
DTSTAMP:20260421T220651
CREATED:20240426T051156Z
LAST-MODIFIED:20240426T051156Z
UID:10000511-1716193800-1716201000@eves.littletonaz.org
SUMMARY:Eighth Grade Tunnel of Hope and Promotion
DESCRIPTION:
URL:https://eves.littletonaz.org/calendar-event/eighth-grade-tunnel-of-hope-and-promotion
END:VEVENT
BEGIN:VEVENT
DTSTART;VALUE=DATE:20240521
DTEND;VALUE=DATE:20240522
DTSTAMP:20260421T220651
CREATED:20240426T051246Z
LAST-MODIFIED:20240426T051246Z
UID:10000512-1716249600-1716335999@eves.littletonaz.org
SUMMARY:Kindergarten Promotion and Celebration
DESCRIPTION:
URL:https://eves.littletonaz.org/calendar-event/kindergarten-promotion-and-celebration
END:VEVENT
BEGIN:VEVENT
DTSTART;VALUE=DATE:20240522
DTEND;VALUE=DATE:20240523
DTSTAMP:20260421T220651
CREATED:20230715T014156Z
LAST-MODIFIED:20230715T014156Z
UID:10000082-1716336000-1716422399@eves.littletonaz.org
SUMMARY:Last Day for Students - Early Release
DESCRIPTION:
URL:https://eves.littletonaz.org/calendar-event/last-day-for-students-early-release
END:VEVENT
BEGIN:VEVENT
DTSTART;VALUE=DATE:20240522
DTEND;VALUE=DATE:20240523
DTSTAMP:20260421T220651
CREATED:20240426T051328Z
LAST-MODIFIED:20240426T051328Z
UID:10000513-1716336000-1716422399@eves.littletonaz.org
SUMMARY:Final Day of School (Early Release)
DESCRIPTION:
URL:https://eves.littletonaz.org/calendar-event/final-day-of-school-early-release
END:VEVENT
BEGIN:VEVENT
DTSTART;VALUE=DATE:20240523
DTEND;VALUE=DATE:20240524
DTSTAMP:20260421T220651
CREATED:20230715T014156Z
LAST-MODIFIED:20230715T014156Z
UID:10000083-1716422400-1716508799@eves.littletonaz.org
SUMMARY:Last Day for Teachers
DESCRIPTION:
URL:https://eves.littletonaz.org/calendar-event/last-day-for-teachers
END:VEVENT
END:VCALENDAR